BEGIN:VCALENDAR
VERSION:2.0
PRODID:-//Canosia Township, St Louis County MN - ECPv4.6.10.1//NONSGML v1.0//EN
CALSCALE:GREGORIAN
METHOD:PUBLISH
X-WR-CALNAME:Canosia Township, St Louis County MN
X-ORIGINAL-URL:https://www.canosiatownship.org
X-WR-CALDESC:Events for Canosia Township, St Louis County MN
BEGIN:VEVENT
DTSTART;TZID=UTC+6:20250311T120000
DTEND;TZID=UTC+6:20250311T200000
DTSTAMP:20260419T125836
CREATED:20241119T174600Z
LAST-MODIFIED:20250223T021854Z
UID:1947-1741694400-1741723200@www.canosiatownship.org
SUMMARY:March Township Election
DESCRIPTION:
URL:https://www.canosiatownship.org/event/march-township-election/
END:VEVENT
BEGIN:VEVENT
DTSTART;TZID=UTC+6:20250311T200000
DTEND;TZID=UTC+6:20250311T200000
DTSTAMP:20260419T125836
CREATED:20250123T224653Z
LAST-MODIFIED:20250123T224653Z
UID:1989-1741723200-1741723200@www.canosiatownship.org
SUMMARY:Board of Canvass Meeting
DESCRIPTION:
URL:https://www.canosiatownship.org/event/board-of-canvass-meeting/
END:VEVENT
BEGIN:VEVENT
DTSTART;TZID=UTC+6:20250311T203000
DTEND;TZID=UTC+6:20250311T213000
DTSTAMP:20260419T125836
CREATED:20241119T174625Z
LAST-MODIFIED:20241119T174625Z
UID:1949-1741725000-1741728600@www.canosiatownship.org
SUMMARY:Township Annual Meeting
DESCRIPTION:
URL:https://www.canosiatownship.org/event/township-annual-meeting/
END:VEVENT
END:VCALENDAR