BEGIN:VCALENDAR
VERSION:2.0
PRODID:-//Canosia Township, St Louis County MN - ECPv4.6.10.1//NONSGML v1.0//EN
CALSCALE:GREGORIAN
METHOD:PUBLISH
X-WR-CALNAME:Canosia Township, St Louis County MN
X-ORIGINAL-URL:https://www.canosiatownship.org
X-WR-CALDESC:Events for Canosia Township, St Louis County MN
BEGIN:VEVENT
DTSTART;TZID=UTC+6:20240624T160000
DTEND;TZID=UTC+6:20240624T170000
DTSTAMP:20260423T134840
CREATED:20240528T001721Z
LAST-MODIFIED:20240528T001721Z
UID:1842-1719244800-1719248400@www.canosiatownship.org
SUMMARY:Closed Township Meeting
DESCRIPTION:
URL:https://www.canosiatownship.org/event/closed-township-meeting/
END:VEVENT
BEGIN:VEVENT
DTSTART;TZID=UTC+6:20240624T170000
DTEND;TZID=UTC+6:20240624T180000
DTSTAMP:20260423T134840
CREATED:20240528T001637Z
LAST-MODIFIED:20240528T001637Z
UID:1840-1719248400-1719252000@www.canosiatownship.org
SUMMARY:PLAWCS Special Meeting- Grand Lake Community Center
DESCRIPTION:
URL:https://www.canosiatownship.org/event/plawcs-special-meeting-grand-lake-community-center/
END:VEVENT
BEGIN:VEVENT
DTSTART;TZID=UTC+6:20240624T190000
DTEND;TZID=UTC+6:20240624T200000
DTSTAMP:20260423T134840
CREATED:20231217T234109Z
LAST-MODIFIED:20231217T234109Z
UID:1737-1719255600-1719259200@www.canosiatownship.org
SUMMARY:PLAWCS- Grand Lake Community Center
DESCRIPTION:
URL:https://www.canosiatownship.org/event/plawcs-grand-lake-community-center-3/
END:VEVENT
END:VCALENDAR