BEGIN:VCALENDAR
VERSION:2.0
PRODID:-//Canosia Township, St Louis County MN - ECPv4.6.10.1//NONSGML v1.0//EN
CALSCALE:GREGORIAN
METHOD:PUBLISH
X-WR-CALNAME:Canosia Township, St Louis County MN
X-ORIGINAL-URL:https://www.canosiatownship.org
X-WR-CALDESC:Events for Canosia Township, St Louis County MN
BEGIN:VEVENT
DTSTART;TZID=UTC+6:20231206T160000
DTEND;TZID=UTC+6:20231206T170000
DTSTAMP:20260424T014947
CREATED:20231110T142626Z
LAST-MODIFIED:20231110T142656Z
UID:1684-1701878400-1701882000@www.canosiatownship.org
SUMMARY:Closed Special Board Meeting
DESCRIPTION:
URL:https://www.canosiatownship.org/event/closed-special-meeting/
END:VEVENT
BEGIN:VEVENT
DTSTART;TZID=UTC+6:20231206T190000
DTEND;TZID=UTC+6:20231206T200000
DTSTAMP:20260424T014947
CREATED:20230423T153827Z
LAST-MODIFIED:20230423T153827Z
UID:1526-1701889200-1701892800@www.canosiatownship.org
SUMMARY:December Town Board Meeting
DESCRIPTION:
URL:https://www.canosiatownship.org/event/december-town-board-meeting-3/
END:VEVENT
END:VCALENDAR