BEGIN:VCALENDAR
VERSION:2.0
PRODID:-//Canosia Township, St Louis County MN - ECPv4.6.10.1//NONSGML v1.0//EN
CALSCALE:GREGORIAN
METHOD:PUBLISH
X-WR-CALNAME:Canosia Township, St Louis County MN
X-ORIGINAL-URL:https://www.canosiatownship.org
X-WR-CALDESC:Events for Canosia Township, St Louis County MN
BEGIN:VEVENT
DTSTART;TZID=UTC+6:20230828T190000
DTEND;TZID=UTC+6:20230828T200000
DTSTAMP:20260424T054054
CREATED:20230713T215443Z
LAST-MODIFIED:20230713T215443Z
UID:1601-1693249200-1693252800@www.canosiatownship.org
SUMMARY:PLAWCS- Grand Lake Township Town Hall
DESCRIPTION:
URL:https://www.canosiatownship.org/event/plawcs-grand-lake-township-town-hall/
END:VEVENT
END:VCALENDAR