BEGIN:VCALENDAR
VERSION:2.0
PRODID:-//Canosia Township, St Louis County MN - ECPv4.6.10.1//NONSGML v1.0//EN
CALSCALE:GREGORIAN
METHOD:PUBLISH
X-WR-CALNAME:Canosia Township, St Louis County MN
X-ORIGINAL-URL:https://www.canosiatownship.org
X-WR-CALDESC:Events for Canosia Township, St Louis County MN
BEGIN:VEVENT
DTSTART;TZID=UTC+6:20230802T190000
DTEND;TZID=UTC+6:20230802T200000
DTSTAMP:20260424T071014
CREATED:20230423T153629Z
LAST-MODIFIED:20230423T153629Z
UID:1518-1691002800-1691006400@www.canosiatownship.org
SUMMARY:August Town Board Meeting
DESCRIPTION:
URL:https://www.canosiatownship.org/event/august-town-board-meeting-3/
END:VEVENT
END:VCALENDAR