BEGIN:VCALENDAR
VERSION:2.0
PRODID:-//Canosia Township, St Louis County MN - ECPv4.6.10.1//NONSGML v1.0//EN
CALSCALE:GREGORIAN
METHOD:PUBLISH
X-WR-CALNAME:Canosia Township, St Louis County MN
X-ORIGINAL-URL:https://www.canosiatownship.org
X-WR-CALDESC:Events for Canosia Township, St Louis County MN
BEGIN:VEVENT
DTSTART;TZID=UTC+6:20230725T160000
DTEND;TZID=UTC+6:20230725T170000
DTSTAMP:20260424T082837
CREATED:20230726T004809Z
LAST-MODIFIED:20230726T004809Z
UID:1625-1690300800-1690304400@www.canosiatownship.org
SUMMARY:Special Board Meeting
DESCRIPTION:
URL:https://www.canosiatownship.org/event/special-board-meeting/
END:VEVENT
END:VCALENDAR