BEGIN:VCALENDAR
VERSION:2.0
PRODID:-//Canosia Township, St Louis County MN - ECPv4.6.10.1//NONSGML v1.0//EN
CALSCALE:GREGORIAN
METHOD:PUBLISH
X-WR-CALNAME:Canosia Township, St Louis County MN
X-ORIGINAL-URL:https://www.canosiatownship.org
X-WR-CALDESC:Events for Canosia Township, St Louis County MN
BEGIN:VEVENT
DTSTART;TZID=UTC+6:20230313T140000
DTEND;TZID=UTC+6:20230313T160000
DTSTAMP:20260424T135552
CREATED:20230303T141901Z
LAST-MODIFIED:20230303T141901Z
UID:1483-1678716000-1678723200@www.canosiatownship.org
SUMMARY:March Special Meeting
DESCRIPTION:
URL:https://www.canosiatownship.org/event/march-special-meeting/
END:VEVENT
END:VCALENDAR