BEGIN:VCALENDAR
VERSION:2.0
PRODID:-//Canosia Township, St Louis County MN - ECPv4.6.10.1//NONSGML v1.0//EN
CALSCALE:GREGORIAN
METHOD:PUBLISH
X-WR-CALNAME:Canosia Township, St Louis County MN
X-ORIGINAL-URL:https://www.canosiatownship.org
X-WR-CALDESC:Events for Canosia Township, St Louis County MN
BEGIN:VEVENT
DTSTART;TZID=UTC+6:20230103T080000
DTEND;TZID=UTC+6:20230117T170000
DTSTAMP:20260424T163712
CREATED:20221223T143454Z
LAST-MODIFIED:20221223T143454Z
UID:1451-1672732800-1673974800@www.canosiatownship.org
SUMMARY:Affidavits of Candidacy 2023 March Election
DESCRIPTION:\nAffidavits of candidacy may be filed with the town clerk of Canosia Township at 4896 Midway Road\, Duluth\, Minnesota\, between January 3\, 2023 to January 17\, 2023\, at 5:00 p.m.\, for the office of: \n\n\nTown Board Supervisor \n\n\nThree- Year Term \n\n\nPlease contact the clerk at 218-260-5600 or canosiatownship@yahoo.com to arrange a time to file. The clerk’s office will also be open January 17\, 2023 from 1:00 p.m. – 5:00 p.m. A $2.00 filing fee is required. The election will take place Tuesday\, March 14\, 2023. \n\n
URL:https://www.canosiatownship.org/event/affidavits-of-candidacy-2023-march-election/
END:VEVENT
END:VCALENDAR