BEGIN:VCALENDAR
VERSION:2.0
PRODID:-//Canosia Township, St Louis County MN - ECPv4.6.10.1//NONSGML v1.0//EN
CALSCALE:GREGORIAN
METHOD:PUBLISH
X-WR-CALNAME:Canosia Township, St Louis County MN
X-ORIGINAL-URL:https://www.canosiatownship.org
X-WR-CALDESC:Events for Canosia Township, St Louis County MN
BEGIN:VEVENT
DTSTART;TZID=UTC+6:20221128T173000
DTEND;TZID=UTC+6:20221128T190000
DTSTAMP:20260424T175316
CREATED:20221108T190703Z
LAST-MODIFIED:20221108T190703Z
UID:1438-1669656600-1669662000@www.canosiatownship.org
SUMMARY:November Town Board Special Meeting
DESCRIPTION:
URL:https://www.canosiatownship.org/event/november-town-board-special-meeting/
END:VEVENT
BEGIN:VEVENT
DTSTART;TZID=UTC+6:20221128T190000
DTEND;TZID=UTC+6:20221128T200000
DTSTAMP:20260424T175316
CREATED:20220420T144419Z
LAST-MODIFIED:20220420T144419Z
UID:1361-1669662000-1669665600@www.canosiatownship.org
SUMMARY:PLAWCS Regular Meeting
DESCRIPTION:This meeting will be held at Canosia Town Hall (4896 Midway Road.) \n
URL:https://www.canosiatownship.org/event/plawcs-regular-meeting-8/
END:VEVENT
END:VCALENDAR