BEGIN:VCALENDAR
VERSION:2.0
PRODID:-//Canosia Township, St Louis County MN - ECPv4.6.10.1//NONSGML v1.0//EN
CALSCALE:GREGORIAN
METHOD:PUBLISH
X-WR-CALNAME:Canosia Township, St Louis County MN
X-ORIGINAL-URL:https://www.canosiatownship.org
X-WR-CALDESC:Events for Canosia Township, St Louis County MN
BEGIN:VEVENT
DTSTART;TZID=UTC+6:20210707T190000
DTEND;TZID=UTC+6:20210707T210000
DTSTAMP:20260425T180324
CREATED:20210425T214314Z
LAST-MODIFIED:20210425T214314Z
UID:1105-1625684400-1625691600@www.canosiatownship.org
SUMMARY:July Town Board Meeting
DESCRIPTION:
URL:https://www.canosiatownship.org/event/july-town-board-meeting/
END:VEVENT
END:VCALENDAR