BEGIN:VCALENDAR
VERSION:2.0
PRODID:-//Canosia Township, St Louis County MN - ECPv4.6.10.1//NONSGML v1.0//EN
CALSCALE:GREGORIAN
METHOD:PUBLISH
X-WR-CALNAME:Canosia Township, St Louis County MN
X-ORIGINAL-URL:https://www.canosiatownship.org
X-WR-CALDESC:Events for Canosia Township, St Louis County MN
BEGIN:VEVENT
DTSTART;TZID=UTC+6:20210602T190000
DTEND;TZID=UTC+6:20210602T210000
DTSTAMP:20260425T210001
CREATED:20210425T214245Z
LAST-MODIFIED:20210425T214245Z
UID:1103-1622660400-1622667600@www.canosiatownship.org
SUMMARY:June Town Board Meeting
DESCRIPTION:
URL:https://www.canosiatownship.org/event/june-town-board-meeting/
END:VEVENT
END:VCALENDAR