BEGIN:VCALENDAR
VERSION:2.0
PRODID:-//Canosia Township, St Louis County MN - ECPv4.6.10.1//NONSGML v1.0//EN
CALSCALE:GREGORIAN
METHOD:PUBLISH
X-WR-CALNAME:Canosia Township, St Louis County MN
X-ORIGINAL-URL:https://www.canosiatownship.org
X-WR-CALDESC:Events for Canosia Township, St Louis County MN
BEGIN:VEVENT
DTSTART;TZID=UTC+6:20210505T190000
DTEND;TZID=UTC+6:20210505T210000
DTSTAMP:20260425T205918
CREATED:20210425T184147Z
LAST-MODIFIED:20210425T184147Z
UID:1089-1620241200-1620248400@www.canosiatownship.org
SUMMARY:May Town Board Meeting
DESCRIPTION:
URL:https://www.canosiatownship.org/event/may-town-board-meeting/
END:VEVENT
END:VCALENDAR