BEGIN:VCALENDAR
VERSION:2.0
PRODID:-//Canosia Township, St Louis County MN - ECPv4.6.10.1//NONSGML v1.0//EN
CALSCALE:GREGORIAN
METHOD:PUBLISH
X-WR-CALNAME:Canosia Township, St Louis County MN
X-ORIGINAL-URL:https://www.canosiatownship.org
X-WR-CALDESC:Events for Canosia Township, St Louis County MN
BEGIN:VEVENT
DTSTART;TZID=UTC+6:20211202T080000
DTEND;TZID=UTC+6:20211202T170000
DTSTAMP:20260425T120108
CREATED:20211201T235407Z
LAST-MODIFIED:20211201T235407Z
UID:1228-1638432000-1638464400@www.canosiatownship.org
SUMMARY:Township 2022 Town Supervisor Elections
DESCRIPTION:In person township elections will be held at 4896 Midway Road\, Duluth MN 55811 (Canosia Town Hall) from 12:00 p.m. – 8:00 p.m. \n
URL:https://www.canosiatownship.org/event/township-2022-town-supervisor-elections/
END:VEVENT
END:VCALENDAR