BEGIN:VCALENDAR
VERSION:2.0
PRODID:-//Canosia Township, St Louis County MN - ECPv4.6.10.1//NONSGML v1.0//EN
CALSCALE:GREGORIAN
METHOD:PUBLISH
X-WR-CALNAME:Canosia Township, St Louis County MN
X-ORIGINAL-URL:https://www.canosiatownship.org
X-WR-CALDESC:Events for Canosia Township, St Louis County MN
BEGIN:VEVENT
DTSTART;TZID=UTC+6:20221024T180000
DTEND;TZID=UTC+6:20221024T190000
DTSTAMP:20260424T202556
CREATED:20221011T015332Z
LAST-MODIFIED:20221011T015354Z
UID:1426-1666634400-1666638000@www.canosiatownship.org
SUMMARY:Special Joint Power's Meeting
DESCRIPTION:There will be a joint meeting between Grand Lake Township\, Canosia Township\, and St. Louis County to discuss the current county VRBO policy. It will be held on October 24\, 2022 at 6:00 p.m. at the Grand Lake Town Hall and virtually. To attend virtually Join Zoom Meeting https://us02web.zoom.us/j/88499723441 Meeting ID: 884 9972 3441. To attend via phone 1 312 626 6799 Meeting ID: 884 9972 3441. \n
URL:https://www.canosiatownship.org/event/special-joint-powers-meeting/
END:VEVENT
END:VCALENDAR