BEGIN:VCALENDAR
VERSION:2.0
PRODID:-//Canosia Township, St Louis County MN - ECPv4.6.10.1//NONSGML v1.0//EN
CALSCALE:GREGORIAN
METHOD:PUBLISH
X-WR-CALNAME:Canosia Township, St Louis County MN
X-ORIGINAL-URL:https://www.canosiatownship.org
X-WR-CALDESC:Events for Canosia Township, St Louis County MN
BEGIN:VEVENT
DTSTART;TZID=UTC+6:20240511T110000
DTEND;TZID=UTC+6:20240511T140000
DTSTAMP:20260423T152029
CREATED:20240204T151034Z
LAST-MODIFIED:20240408T173508Z
UID:1774-1715425200-1715436000@www.canosiatownship.org
SUMMARY:Sather's Paper Shredding Event
DESCRIPTION:
URL:https://www.canosiatownship.org/event/sathers-paper-shredding-event/
END:VEVENT
END:VCALENDAR