BEGIN:VCALENDAR
VERSION:2.0
PRODID:-//Canosia Township, St Louis County MN - ECPv4.6.10.1//NONSGML v1.0//EN
CALSCALE:GREGORIAN
METHOD:PUBLISH
X-WR-CALNAME:Canosia Township, St Louis County MN
X-ORIGINAL-URL:https://www.canosiatownship.org
X-WR-CALDESC:Events for Canosia Township, St Louis County MN
BEGIN:VEVENT
DTSTART;TZID=UTC+6:20221219T190000
DTEND;TZID=UTC+6:20221219T200000
DTSTAMP:20260424T175153
CREATED:20220420T144453Z
LAST-MODIFIED:20220420T144453Z
UID:1363-1671476400-1671480000@www.canosiatownship.org
SUMMARY:PLAWCS Regular Meeting
DESCRIPTION:This meeting will be held at Grand Lake Town Hall. \n
URL:https://www.canosiatownship.org/event/plawcs-regular-meeting-9/
END:VEVENT
END:VCALENDAR