BEGIN:VCALENDAR
VERSION:2.0
PRODID:-//Canosia Township, St Louis County MN - ECPv4.6.10.1//NONSGML v1.0//EN
CALSCALE:GREGORIAN
METHOD:PUBLISH
X-WR-CALNAME:Canosia Township, St Louis County MN
X-ORIGINAL-URL:https://www.canosiatownship.org
X-WR-CALDESC:Events for Canosia Township, St Louis County MN
BEGIN:VEVENT
DTSTART;TZID=UTC+6:20220523T190000
DTEND;TZID=UTC+6:20220523T200000
DTSTAMP:20260425T032452
CREATED:20220420T144013Z
LAST-MODIFIED:20220420T144013Z
UID:1349-1653332400-1653336000@www.canosiatownship.org
SUMMARY:PLAWCS Regular Meeting
DESCRIPTION:This meeting will be held at Canosia Town Hall (4896 Midway Road.) \n
URL:https://www.canosiatownship.org/event/plawcs-regular-meeting-2/
END:VEVENT
END:VCALENDAR