BEGIN:VCALENDAR
VERSION:2.0
PRODID:-//Canosia Township, St Louis County MN - ECPv4.6.10.1//NONSGML v1.0//EN
CALSCALE:GREGORIAN
METHOD:PUBLISH
X-WR-CALNAME:Canosia Township, St Louis County MN
X-ORIGINAL-URL:https://www.canosiatownship.org
X-WR-CALDESC:Events for Canosia Township, St Louis County MN
BEGIN:VEVENT
DTSTART;TZID=UTC+6:20190528T173000
DTEND;TZID=UTC+6:20190528T173000
DTSTAMP:20260426T013047
CREATED:20190415T154624Z
LAST-MODIFIED:20190415T154624Z
UID:706-1559064600-1559064600@www.canosiatownship.org
SUMMARY:PLAWCS I/I Ordinance Hearing 5:30 p.m.
DESCRIPTION:
URL:https://www.canosiatownship.org/event/plawcs-ii-ordinance-hearing-530-p-m/
END:VEVENT
END:VCALENDAR