BEGIN:VCALENDAR
VERSION:2.0
PRODID:-//Canosia Township, St Louis County MN - ECPv4.6.10.1//NONSGML v1.0//EN
CALSCALE:GREGORIAN
METHOD:PUBLISH
X-WR-CALNAME:Canosia Township, St Louis County MN
X-ORIGINAL-URL:https://www.canosiatownship.org
X-WR-CALDESC:Events for Canosia Township, St Louis County MN
BEGIN:VEVENT
DTSTART;TZID=UTC+6:20231218T190000
DTEND;TZID=UTC+6:20231218T200000
DTSTAMP:20260424T021152
CREATED:20230713T215751Z
LAST-MODIFIED:20230713T215751Z
UID:1609-1702926000-1702929600@www.canosiatownship.org
SUMMARY:PLAWCS- Grand Lake Township Town Hall
DESCRIPTION:
URL:https://www.canosiatownship.org/event/plawcs-grand-lake-township-town-hall-3/
END:VEVENT
END:VCALENDAR