BEGIN:VCALENDAR
VERSION:2.0
PRODID:-//Canosia Township, St Louis County MN - ECPv4.6.10.1//NONSGML v1.0//EN
CALSCALE:GREGORIAN
METHOD:PUBLISH
X-WR-CALNAME:Canosia Township, St Louis County MN
X-ORIGINAL-URL:https://www.canosiatownship.org
X-WR-CALDESC:Events for Canosia Township, St Louis County MN
BEGIN:VEVENT
DTSTART;TZID=UTC+6:20231129T190000
DTEND;TZID=UTC+6:20231129T200000
DTSTAMP:20260424T031949
CREATED:20230713T215721Z
LAST-MODIFIED:20231114T010530Z
UID:1607-1701284400-1701288000@www.canosiatownship.org
SUMMARY:PLAWCS- Canosia Township Town Hall
DESCRIPTION:
URL:https://www.canosiatownship.org/event/plawcs-canosia-township-town-hall-3/
END:VEVENT
END:VCALENDAR