BEGIN:VCALENDAR
VERSION:2.0
PRODID:-//Canosia Township, St Louis County MN - ECPv4.6.10.1//NONSGML v1.0//EN
CALSCALE:GREGORIAN
METHOD:PUBLISH
X-WR-CALNAME:Canosia Township, St Louis County MN
X-ORIGINAL-URL:https://www.canosiatownship.org
X-WR-CALDESC:Events for Canosia Township, St Louis County MN
BEGIN:VEVENT
DTSTART;TZID=UTC+6:20240325T190000
DTEND;TZID=UTC+6:20240325T200000
DTSTAMP:20260423T181807
CREATED:20231217T233910Z
LAST-MODIFIED:20231217T233910Z
UID:1731-1711393200-1711396800@www.canosiatownship.org
SUMMARY:PLAWCS- Canosia Town Hall
DESCRIPTION:
URL:https://www.canosiatownship.org/event/plawcs-canosia-town-hall-2/
END:VEVENT
END:VCALENDAR