BEGIN:VCALENDAR
VERSION:2.0
PRODID:-//Canosia Township, St Louis County MN - ECPv4.6.10.1//NONSGML v1.0//EN
CALSCALE:GREGORIAN
METHOD:PUBLISH
X-WR-CALNAME:Canosia Township, St Louis County MN
X-ORIGINAL-URL:https://www.canosiatownship.org
X-WR-CALDESC:Events for Canosia Township, St Louis County MN
BEGIN:VEVENT
DTSTART;TZID=UTC+6:20211006T190000
DTEND;TZID=UTC+6:20211006T210000
DTSTAMP:20260425T133415
CREATED:20210425T214612Z
LAST-MODIFIED:20210425T214612Z
UID:1113-1633546800-1633554000@www.canosiatownship.org
SUMMARY:October Town Board Meeting
DESCRIPTION:
URL:https://www.canosiatownship.org/event/october-town-board-meeting/
END:VEVENT
END:VCALENDAR