BEGIN:VCALENDAR
VERSION:2.0
PRODID:-//Canosia Township, St Louis County MN - ECPv4.6.10.1//NONSGML v1.0//EN
CALSCALE:GREGORIAN
METHOD:PUBLISH
X-WR-CALNAME:Canosia Township, St Louis County MN
X-ORIGINAL-URL:https://www.canosiatownship.org
X-WR-CALDESC:Events for Canosia Township, St Louis County MN
BEGIN:VEVENT
DTSTART;TZID=UTC+6:20221005T190000
DTEND;TZID=UTC+6:20221005T200000
DTSTAMP:20260424T202556
CREATED:20220412T135909Z
LAST-MODIFIED:20220412T135909Z
UID:1313-1664996400-1665000000@www.canosiatownship.org
SUMMARY:October Town Board Meeting
DESCRIPTION:
URL:https://www.canosiatownship.org/event/october-town-board-meeting-2/
END:VEVENT
END:VCALENDAR