BEGIN:VCALENDAR
VERSION:2.0
PRODID:-//Canosia Township, St Louis County MN - ECPv4.6.10.1//NONSGML v1.0//EN
CALSCALE:GREGORIAN
METHOD:PUBLISH
X-WR-CALNAME:Canosia Township, St Louis County MN
X-ORIGINAL-URL:https://www.canosiatownship.org
X-WR-CALDESC:Events for Canosia Township, St Louis County MN
BEGIN:VEVENT
DTSTART;TZID=UTC+6:20240312T203000
DTEND;TZID=UTC+6:20240312T213000
DTSTAMP:20260423T214950
CREATED:20230423T154230Z
LAST-MODIFIED:20230423T154230Z
UID:1541-1710275400-1710279000@www.canosiatownship.org
SUMMARY:March Annual Meeting
DESCRIPTION:
URL:https://www.canosiatownship.org/event/march-annual-meeting/
END:VEVENT
END:VCALENDAR