BEGIN:VCALENDAR
VERSION:2.0
PRODID:-//Canosia Township, St Louis County MN - ECPv4.6.10.1//NONSGML v1.0//EN
CALSCALE:GREGORIAN
METHOD:PUBLISH
X-WR-CALNAME:Canosia Township, St Louis County MN
X-ORIGINAL-URL:https://www.canosiatownship.org
X-WR-CALDESC:Events for Canosia Township, St Louis County MN
BEGIN:VEVENT
DTSTART;TZID=UTC+6:20240309T100000
DTEND;TZID=UTC+6:20240309T130000
DTSTAMP:20260423T215113
CREATED:20231030T165248Z
LAST-MODIFIED:20231217T234538Z
UID:1677-1709978400-1709989200@www.canosiatownship.org
SUMMARY:MARCH ABSENTEE BALLOT AND PAT TESTING DAY
DESCRIPTION:ABSENTEE BALLOTS WILL BE ACCEPTED FROM 10AM-12PM. PAT TESTING WILL OCCUR 12PM-1PM. \n
URL:https://www.canosiatownship.org/event/march-absent-ballot-and-pat-testing-day/
END:VEVENT
END:VCALENDAR