BEGIN:VCALENDAR
VERSION:2.0
PRODID:-//Canosia Township, St Louis County MN - ECPv4.6.10.1//NONSGML v1.0//EN
CALSCALE:GREGORIAN
METHOD:PUBLISH
X-WR-CALNAME:Canosia Township, St Louis County MN
X-ORIGINAL-URL:https://www.canosiatownship.org
X-WR-CALDESC:Events for Canosia Township, St Louis County MN
BEGIN:VEVENT
DTSTART;TZID=UTC+6:20240313T120000
DTEND;TZID=UTC+6:20240313T130000
DTSTAMP:20260423T212414
CREATED:20240307T205835Z
LAST-MODIFIED:20240307T205835Z
UID:1789-1710331200-1710334800@www.canosiatownship.org
SUMMARY:March 13th Special Meeting
DESCRIPTION:
URL:https://www.canosiatownship.org/event/march-13th-special-meeting/
END:VEVENT
END:VCALENDAR