BEGIN:VCALENDAR
VERSION:2.0
PRODID:-//Canosia Township, St Louis County MN - ECPv4.6.10.1//NONSGML v1.0//EN
CALSCALE:GREGORIAN
METHOD:PUBLISH
X-WR-CALNAME:Canosia Township, St Louis County MN
X-ORIGINAL-URL:https://www.canosiatownship.org
X-WR-CALDESC:Events for Canosia Township, St Louis County MN
BEGIN:VEVENT
DTSTART;TZID=UTC+6:20240605T190000
DTEND;TZID=UTC+6:20240605T200000
DTSTAMP:20260423T135144
CREATED:20240408T172604Z
LAST-MODIFIED:20240408T172604Z
UID:1797-1717614000-1717617600@www.canosiatownship.org
SUMMARY:June Town Board Meeting
DESCRIPTION:
URL:https://www.canosiatownship.org/event/june-town-board-meeting-4/
END:VEVENT
END:VCALENDAR