BEGIN:VCALENDAR
VERSION:2.0
PRODID:-//Canosia Township, St Louis County MN - ECPv4.6.10.1//NONSGML v1.0//EN
CALSCALE:GREGORIAN
METHOD:PUBLISH
X-WR-CALNAME:Canosia Township, St Louis County MN
X-ORIGINAL-URL:https://www.canosiatownship.org
X-WR-CALDESC:Events for Canosia Township, St Louis County MN
BEGIN:VEVENT
DTSTART;TZID=UTC+6:20190530T190000
DTEND;TZID=UTC+6:20190530T190000
DTSTAMP:20260426T000014
CREATED:20190415T155048Z
LAST-MODIFIED:20190415T155129Z
UID:708-1559242800-1559242800@www.canosiatownship.org
SUMMARY:JUNE MEETING (Rescheduled) 7 p.m.
DESCRIPTION:The June town board meeting will be held on May 30 instead of June 5 to accommodate a scheduling conflict for the town board members. The meeting will be recessed after the majority of the business is complete on May 30th and reconvened on June 5 for the purpose of approving the payment of bills/paychecks. \n
URL:https://www.canosiatownship.org/event/june-meeting-rescheduled-7-p-m/
END:VEVENT
END:VCALENDAR