BEGIN:VCALENDAR
VERSION:2.0
PRODID:-//Canosia Township, St Louis County MN - ECPv4.6.10.1//NONSGML v1.0//EN
CALSCALE:GREGORIAN
METHOD:PUBLISH
X-WR-CALNAME:Canosia Township, St Louis County MN
X-ORIGINAL-URL:https://www.canosiatownship.org
X-WR-CALDESC:Events for Canosia Township, St Louis County MN
BEGIN:VEVENT
DTSTART;TZID=UTC+6:20240701T190000
DTEND;TZID=UTC+6:20240701T200000
DTSTAMP:20260423T135221
CREATED:20240408T172719Z
LAST-MODIFIED:20240408T172719Z
UID:1799-1719860400-1719864000@www.canosiatownship.org
SUMMARY:July Town Board Meeting
DESCRIPTION:Note\, this is a MONDAY mtg due to holiday \n
URL:https://www.canosiatownship.org/event/july-town-board-meeting-4/
END:VEVENT
END:VCALENDAR