BEGIN:VCALENDAR
VERSION:2.0
PRODID:-//Canosia Township, St Louis County MN - ECPv4.6.10.1//NONSGML v1.0//EN
CALSCALE:GREGORIAN
METHOD:PUBLISH
X-WR-CALNAME:Canosia Township, St Louis County MN
X-ORIGINAL-URL:https://www.canosiatownship.org
X-WR-CALDESC:Events for Canosia Township, St Louis County MN
BEGIN:VEVENT
DTSTART;TZID=UTC+6:20230201T190000
DTEND;TZID=UTC+6:20230201T200000
DTSTAMP:20260424T154314
CREATED:20220412T140058Z
LAST-MODIFIED:20220412T140058Z
UID:1321-1675278000-1675281600@www.canosiatownship.org
SUMMARY:February Town Board Meeting
DESCRIPTION:
URL:https://www.canosiatownship.org/event/february-town-board-meeting-2/
END:VEVENT
END:VCALENDAR