BEGIN:VCALENDAR
VERSION:2.0
PRODID:-//Canosia Township, St Louis County MN - ECPv4.6.10.1//NONSGML v1.0//EN
CALSCALE:GREGORIAN
METHOD:PUBLISH
X-WR-CALNAME:Canosia Township, St Louis County MN
X-ORIGINAL-URL:https://www.canosiatownship.org
X-WR-CALDESC:Events for Canosia Township, St Louis County MN
BEGIN:VEVENT
DTSTART;TZID=UTC+6:20230201T180000
DTEND;TZID=UTC+6:20230201T190000
DTSTAMP:20260424T153400
CREATED:20220412T141115Z
LAST-MODIFIED:20220412T141115Z
UID:1337-1675274400-1675278000@www.canosiatownship.org
SUMMARY:Budget Meeting
DESCRIPTION:
URL:https://www.canosiatownship.org/event/budget-meeting/
END:VEVENT
END:VCALENDAR