BEGIN:VCALENDAR
VERSION:2.0
PRODID:-//Canosia Township, St Louis County MN - ECPv4.6.10.1//NONSGML v1.0//EN
CALSCALE:GREGORIAN
METHOD:PUBLISH
X-WR-CALNAME:Canosia Township, St Louis County MN
X-ORIGINAL-URL:https://www.canosiatownship.org
X-WR-CALDESC:Events for Canosia Township, St Louis County MN
BEGIN:VEVENT
DTSTART;TZID=UTC+6:20230201T173000
DTEND;TZID=UTC+6:20230201T180000
DTSTAMP:20260424T153354
CREATED:20220412T141052Z
LAST-MODIFIED:20220412T141052Z
UID:1335-1675272600-1675274400@www.canosiatownship.org
SUMMARY:Board of Audit Meeting
DESCRIPTION:
URL:https://www.canosiatownship.org/event/board-of-audit-meeting-2/
END:VEVENT
END:VCALENDAR