BEGIN:VCALENDAR
VERSION:2.0
PRODID:-//Canosia Township, St Louis County MN - ECPv4.6.10.1//NONSGML v1.0//EN
CALSCALE:GREGORIAN
METHOD:PUBLISH
X-WR-CALNAME:Canosia Township, St Louis County MN
X-ORIGINAL-URL:https://www.canosiatownship.org
X-WR-CALDESC:Events for Canosia Township, St Louis County MN
BEGIN:VEVENT
DTSTART;TZID=UTC+6:20230405T190000
DTEND;TZID=UTC+6:20230405T200000
DTSTAMP:20260424T135823
CREATED:20220412T140207Z
LAST-MODIFIED:20220412T140207Z
UID:1325-1680721200-1680724800@www.canosiatownship.org
SUMMARY:April Town Board Meeting
DESCRIPTION:
URL:https://www.canosiatownship.org/event/april-town-board-meeting-2/
END:VEVENT
END:VCALENDAR