BEGIN:VCALENDAR
VERSION:2.0
PRODID:-//Canosia Township, St Louis County MN - ECPv4.6.10.1//NONSGML v1.0//EN
CALSCALE:GREGORIAN
METHOD:PUBLISH
X-WR-CALNAME:Canosia Township, St Louis County MN
X-ORIGINAL-URL:https://www.canosiatownship.org
X-WR-CALDESC:Events for Canosia Township, St Louis County MN
BEGIN:VEVENT
DTSTART;TZID=UTC+6:20240403T180000
DTEND;TZID=UTC+6:20240403T190000
DTSTAMP:20260423T164609
CREATED:20230423T154305Z
LAST-MODIFIED:20230423T154305Z
UID:1543-1712167200-1712170800@www.canosiatownship.org
SUMMARY:April Reorganization Meeting
DESCRIPTION:
URL:https://www.canosiatownship.org/event/april-reorganization-meeting-2/
END:VEVENT
END:VCALENDAR